BEGIN:VCALENDAR
VERSION:2.0
PRODID:-//Channel City - ECPv6.15.20//NONSGML v1.0//EN
CALSCALE:GREGORIAN
METHOD:PUBLISH
X-WR-CALNAME:Channel City
X-ORIGINAL-URL:https://cccameraclub.com
X-WR-CALDESC:Events for Channel City
REFRESH-INTERVAL;VALUE=DURATION:PT1H
X-Robots-Tag:noindex
X-PUBLISHED-TTL:PT1H
BEGIN:VTIMEZONE
TZID:America/Los_Angeles
BEGIN:DAYLIGHT
TZOFFSETFROM:-0800
TZOFFSETTO:-0700
TZNAME:PDT
DTSTART:20250309T100000
END:DAYLIGHT
BEGIN:STANDARD
TZOFFSETFROM:-0700
TZOFFSETTO:-0800
TZNAME:PST
DTSTART:20251102T090000
END:STANDARD
BEGIN:DAYLIGHT
TZOFFSETFROM:-0800
TZOFFSETTO:-0700
TZNAME:PDT
DTSTART:20260308T100000
END:DAYLIGHT
BEGIN:STANDARD
TZOFFSETFROM:-0700
TZOFFSETTO:-0800
TZNAME:PST
DTSTART:20261101T090000
END:STANDARD
BEGIN:DAYLIGHT
TZOFFSETFROM:-0800
TZOFFSETTO:-0700
TZNAME:PDT
DTSTART:20270314T100000
END:DAYLIGHT
BEGIN:STANDARD
TZOFFSETFROM:-0700
TZOFFSETTO:-0800
TZNAME:PST
DTSTART:20271107T090000
END:STANDARD
END:VTIMEZONE
BEGIN:VEVENT
DTSTART;VALUE=DATE:20260503
DTEND;VALUE=DATE:20260508
DTSTAMP:20260424T042813
CREATED:20260321T221630Z
LAST-MODIFIED:20260321T221747Z
UID:7657-1777766400-1778198399@cccameraclub.com
SUMMARY:Field Trip to Big Sur
DESCRIPTION:May 3rd – May 7th: Big Sur\nThe Pacific Coast Highway is now open after being closed for 3 years. This could be a good opportunity for a photo outing. Pfeiffer Big Sur State Park is in the area for outdoors enthusiasts.
URL:https://cccameraclub.com/event/field-trip-to-big-sure/
LOCATION:Big Sur
CATEGORIES:Field Trip
ATTACH;FMTTYPE=image/jpeg:https://cccameraclub.com/wp-content/uploads/2024/12/fieldtrip2025x.jpg
END:VEVENT
BEGIN:VEVENT
DTSTART;TZID=America/Los_Angeles:20260506T190000
DTEND;TZID=America/Los_Angeles:20260506T210000
DTSTAMP:20260424T042813
CREATED:20251129T223715Z
LAST-MODIFIED:20260422T212445Z
UID:7531-1778094000-1778101200@cccameraclub.com
SUMMARY:Juried Exhibition Night
DESCRIPTION:Join us for an evening of wonderful images during our May 2026 Juried Exhibition Night which will have an Expanded Nature category.
URL:https://cccameraclub.com/event/juried-exhibition-night-2/
LOCATION:Zoom
CATEGORIES:Competition
ATTACH;FMTTYPE=image/png:https://cccameraclub.com/wp-content/uploads/2024/12/JE2-1.png
END:VEVENT
BEGIN:VEVENT
DTSTART;TZID=America/Los_Angeles:20260603T190000
DTEND;TZID=America/Los_Angeles:20260603T210000
DTSTAMP:20260424T042813
CREATED:20251129T224048Z
LAST-MODIFIED:20251213T213545Z
UID:7534-1780513200-1780520400@cccameraclub.com
SUMMARY:Juried Exhibition Night
DESCRIPTION:This June 2026 Juried Exhibition Night will feature our Family Special Assignment in the Nature category.
URL:https://cccameraclub.com/event/juried-exhibition-night-3/
LOCATION:Zoom
CATEGORIES:Competition,Special Assignment
ATTACH;FMTTYPE=image/png:https://cccameraclub.com/wp-content/uploads/2024/12/JE2-1.png
END:VEVENT
BEGIN:VEVENT
DTSTART;TZID=America/Los_Angeles:20260701T190000
DTEND;TZID=America/Los_Angeles:20260701T210000
DTSTAMP:20260424T042813
CREATED:20251129T224348Z
LAST-MODIFIED:20251213T213503Z
UID:7538-1782932400-1782939600@cccameraclub.com
SUMMARY:Juried Exhibition Night
DESCRIPTION:July’s Juried Exhibition Night will feature an Expanded Nature category.
URL:https://cccameraclub.com/event/juried-exhibition-night-4/
LOCATION:Zoom
CATEGORIES:Competition
ATTACH;FMTTYPE=image/png:https://cccameraclub.com/wp-content/uploads/2024/12/JE2-1.png
END:VEVENT
BEGIN:VEVENT
DTSTART;TZID=America/Los_Angeles:20260902T190000
DTEND;TZID=America/Los_Angeles:20260902T210000
DTSTAMP:20260424T042813
CREATED:20251129T224620Z
LAST-MODIFIED:20251213T213426Z
UID:7540-1788375600-1788382800@cccameraclub.com
SUMMARY:Juried Exhibition Night
DESCRIPTION:September finds us back from our break with our Family Special Assignment in the Open category.
URL:https://cccameraclub.com/event/juried-exhibition-night-5/
LOCATION:Zoom
CATEGORIES:Competition,Special Assignment
ATTACH;FMTTYPE=image/png:https://cccameraclub.com/wp-content/uploads/2024/12/JE2-1.png
END:VEVENT
BEGIN:VEVENT
DTSTART;VALUE=DATE:20260904
DTEND;VALUE=DATE:20260905
DTSTAMP:20260424T042813
CREATED:20251026T194439Z
LAST-MODIFIED:20251026T194618Z
UID:7482-1788480000-1788566399@cccameraclub.com
SUMMARY:Eastman Patent
DESCRIPTION:September 4\, 1888: George Eastman receives a patent for his roll film\, a flexible celluloid-based medium that replaced glass plates and paved the way for portable cameras. On this date\, he patented the first roll-film camera\, the “Kodak\,” and registered the trademark “Kodak”. This camera\, pre-loaded with 100-exposure rolls of film\, made photography accessible to the public with its simple “You press the button\, we do the rest” slogan and business model. \nThe invention: The Kodak camera was a simple\, handheld box camera that contained a roll of flexible\, celluloid-based film. This replaced the cumbersome glass plates previously used in photography. \nThe process: After taking 100 pictures\, the owner would mail the entire camera back to Eastman’s company in Rochester\, NY. \nThe service: For a fee\, Eastman’s company would develop the film\, print the photos\, and return the camera to the customer\, reloaded with a fresh roll of film. \nThe impact: This innovation democratized photography\, transforming it from a complex and expensive hobby for professionals into a popular pastime for ordinary people. It paved the way for modern photography and the widespread documentation of everyday life.
URL:https://cccameraclub.com/event/eastman-patent/
END:VEVENT
BEGIN:VEVENT
DTSTART;TZID=America/Los_Angeles:20261007T190000
DTEND;TZID=America/Los_Angeles:20261007T210000
DTSTAMP:20260424T042813
CREATED:20251129T224854Z
LAST-MODIFIED:20251213T213354Z
UID:7542-1791399600-1791406800@cccameraclub.com
SUMMARY:Juried Exhibition Night
DESCRIPTION:Our October 2026 Juried Exhibition will feature an Expanded Nature category.
URL:https://cccameraclub.com/event/juried-exhibition-night-6/
LOCATION:Zoom
CATEGORIES:Competition
ATTACH;FMTTYPE=image/png:https://cccameraclub.com/wp-content/uploads/2024/12/JE2-1.png
END:VEVENT
BEGIN:VEVENT
DTSTART;TZID=America/Los_Angeles:20261104T190000
DTEND;TZID=America/Los_Angeles:20261104T210000
DTSTAMP:20260424T042813
CREATED:20251129T225544Z
LAST-MODIFIED:20251213T213319Z
UID:7544-1793818800-1793826000@cccameraclub.com
SUMMARY:Juried Exhibition Night
DESCRIPTION:Our November 2026 will be our final competition of the year and will feature our Family Special Assignment in the People category.
URL:https://cccameraclub.com/event/juried-exhibition-night-7/
LOCATION:Zoom
CATEGORIES:Competition,Special Assignment
ATTACH;FMTTYPE=image/png:https://cccameraclub.com/wp-content/uploads/2024/12/JE2-1.png
END:VEVENT
END:VCALENDAR